BEGIN:VCALENDAR
VERSION:2.0
METHOD:PUBLISH
BEGIN:VEVENT
UID:WILD_APRICOT_EVENT_2594492_SESSION_1
DTSTART:20180523T040000Z
DTEND:20180526T040000Z
SUMMARY:The 4th Canadian Conference on Positive Psychology
LOCATION:Victoria College\, University of Toronto\, Toronto\, Ontario\, Canada
DESCRIPTION:http://www.positivepsychologycanada.com/event-2594492\n\n\n\n  Join us for the largest Canadian conference on positive psychology! Explore the factors that help individuals and communities flourish.\n  \n\n  The 4th Canadian Conference on Positive Psychology brings together more than 500 professionals from a variety of fields to:\n      * Discover the newest evidence-based research from positive psychology and related fields\n\n      * Exchange knowledge\, find opportunities for collaboration\, and feel part of a community committed to helping individuals thrive\n\n      * Learn practical strategies to optimize well-being in the workplace\, schools\, organizations\, family\, and more \n\n
DTSTAMP:20171015T091833Z
END:VEVENT
END:VCALENDAR
